BEGIN:VCALENDAR
VERSION:2.0
PRODID:-//Filarmonica Valcea - ECPv6.0.10//NONSGML v1.0//EN
CALSCALE:GREGORIAN
METHOD:PUBLISH
X-ORIGINAL-URL:https://filarmonica-valcea.ro
X-WR-CALDESC:Events for Filarmonica Valcea
REFRESH-INTERVAL;VALUE=DURATION:PT1H
X-Robots-Tag:noindex
X-PUBLISHED-TTL:PT1H
BEGIN:VTIMEZONE
TZID:UTC
BEGIN:STANDARD
TZOFFSETFROM:+0000
TZOFFSETTO:+0000
TZNAME:UTC
DTSTART:20250101T000000
END:STANDARD
END:VTIMEZONE
BEGIN:VEVENT
DTSTART;TZID=UTC:20250124T190000
DTEND;TZID=UTC:20250124T200000
DTSTAMP:20260423T142208
CREATED:20241219T143056Z
LAST-MODIFIED:20241219T143056Z
UID:4481-1737745200-1737748800@filarmonica-valcea.ro
SUMMARY:CONCERT EUPHONIA dedicat ZILEI UNIRII PRINCIPATELOR ROMÂNE
DESCRIPTION:CORUL EUPHONIA  \nDirijor: MARIAN STROE \n  \nINTRAREA LIBERĂ
URL:https://filarmonica-valcea.ro/eveniment/concert-euphonia-dedicat-zilei-unirii-principatelor-romane/
LOCATION:Sala Lahovari\, Calea lui Traian 138 B\, Râmnicu Vâlcea\, România
ATTACH;FMTTYPE=image/png:https://filarmonica-valcea.ro/wp-content/uploads/2024/12/24-ianuarie-2025-.png
END:VEVENT
END:VCALENDAR