BEGIN:VCALENDAR
VERSION:2.0
PRODID:-//Filarmonica Valcea - ECPv6.0.10//NONSGML v1.0//EN
CALSCALE:GREGORIAN
METHOD:PUBLISH
X-ORIGINAL-URL:https://filarmonica-valcea.ro
X-WR-CALDESC:Events for Filarmonica Valcea
REFRESH-INTERVAL;VALUE=DURATION:PT1H
X-Robots-Tag:noindex
X-PUBLISHED-TTL:PT1H
BEGIN:VTIMEZONE
TZID:UTC
BEGIN:STANDARD
TZOFFSETFROM:+0000
TZOFFSETTO:+0000
TZNAME:UTC
DTSTART:20250101T000000
END:STANDARD
END:VTIMEZONE
BEGIN:VEVENT
DTSTART;TZID=UTC:20250303T190000
DTEND;TZID=UTC:20250303T203000
DTSTAMP:20260423T113245
CREATED:20250218T095257Z
LAST-MODIFIED:20250219T080246Z
UID:4599-1741028400-1741033800@filarmonica-valcea.ro
SUMMARY:CONCERT DE CONCERTE
DESCRIPTION:Dirijor: EMIL VIȘENESCU \nSoliști: TUDOR POENARU – clarinet \n             MIRUNA MACIUCA – pian \nORCHESTRA SIMFONICĂ A FILARMONICII \nWolfgang Amadeus Mozart – Uvertura operei „Flautul fermecat” \nWolfgang Amadeus Mozart – Concertul în La Major pentru clarinet și orchestră\, K. 622 \nCamille Saint-Saëns – Concertul nr. 4 pentru pian (primă audiție) \n  \nPreț bilet: 25 lei  / 15 lei (elevi\, studenți\, pensionari și șomeri) – Abonamentele sunt valabile \nBilete online: bilete.ro
URL:https://filarmonica-valcea.ro/eveniment/concert-de-concerte-3/
LOCATION:Sala Lahovari\, Calea lui Traian 138 B\, Râmnicu Vâlcea\, România
ATTACH;FMTTYPE=image/png:https://filarmonica-valcea.ro/wp-content/uploads/2025/02/3-martie-2025.png
END:VEVENT
END:VCALENDAR