BEGIN:VCALENDAR
VERSION:2.0
PRODID:-//Filarmonica Valcea - ECPv6.0.10//NONSGML v1.0//EN
CALSCALE:GREGORIAN
METHOD:PUBLISH
X-WR-CALNAME:Filarmonica Valcea
X-ORIGINAL-URL:https://filarmonica-valcea.ro
X-WR-CALDESC:Events for Filarmonica Valcea
REFRESH-INTERVAL;VALUE=DURATION:PT1H
X-Robots-Tag:noindex
X-PUBLISHED-TTL:PT1H
BEGIN:VTIMEZONE
TZID:UTC
BEGIN:STANDARD
TZOFFSETFROM:+0000
TZOFFSETTO:+0000
TZNAME:UTC
DTSTART:20250101T000000
END:STANDARD
END:VTIMEZONE
BEGIN:VEVENT
DTSTART;TZID=UTC:20250310T190000
DTEND;TZID=UTC:20250310T203000
DTSTAMP:20260423T113114
CREATED:20250218T100203Z
LAST-MODIFIED:20250219T071317Z
UID:4603-1741633200-1741638600@filarmonica-valcea.ro
SUMMARY:CÂȘTIGĂTORI AI CONCURSULUI INTERNAȚIONAL „GEORGE ENESCU” (I)
DESCRIPTION:Dirijor: GHEORGHE COSTIN  \nSolistă: ALEXANDRA SEGAL – pian (Israel) \nORCHESTRA SIMFONICĂ A FILARMONICII \nWolfgang Amadeus Mozart – Uvertura operei „Don Giovanni” \nEdvard Grieg – Concertul în la minor pentru pian și orchestră\, op. 16 \n* * * \nLudwig van Beethoven – Simfonia a IV-a \nPreț bilet: 25 lei  / 15 lei (elevi\, studenți\, pensionari și șomeri) – Abonamentele sunt valabile \nBilete online: bilete.ro
URL:https://filarmonica-valcea.ro/eveniment/castigatori-ai-concursului-international-george-enescu-i/
LOCATION:Sala Lahovari\, Calea lui Traian 138 B\, Râmnicu Vâlcea\, România
ATTACH;FMTTYPE=image/png:https://filarmonica-valcea.ro/wp-content/uploads/2025/02/10-martie-2025.png
END:VEVENT
END:VCALENDAR