BEGIN:VCALENDAR
VERSION:2.0
PRODID:-//Filarmonica Valcea - ECPv6.0.10//NONSGML v1.0//EN
CALSCALE:GREGORIAN
METHOD:PUBLISH
X-WR-CALNAME:Filarmonica Valcea
X-ORIGINAL-URL:https://filarmonica-valcea.ro
X-WR-CALDESC:Events for Filarmonica Valcea
REFRESH-INTERVAL;VALUE=DURATION:PT1H
X-Robots-Tag:noindex
X-PUBLISHED-TTL:PT1H
BEGIN:VTIMEZONE
TZID:UTC
BEGIN:STANDARD
TZOFFSETFROM:+0000
TZOFFSETTO:+0000
TZNAME:UTC
DTSTART:20250101T000000
END:STANDARD
END:VTIMEZONE
BEGIN:VEVENT
DTSTART;TZID=UTC:20250315T100000
DTEND;TZID=UTC:20250315T110000
DTSTAMP:20260423T113145
CREATED:20250227T131547Z
LAST-MODIFIED:20250227T141021Z
UID:4624-1742032800-1742036400@filarmonica-valcea.ro
SUMMARY:VESTE DE… POVESTE
DESCRIPTION:Un spectacol coordonat de VLAD POPESCU  \nInterpretează ACTORII TEATRULUI MUNICIPAL ARIEL  \nși CORUL EUPHONIA al Filarmonicii „ION DUMITRESCU” \nDirijor: MARIAN STROE \n  \nPreț unic: 15 lei \nBilete online: bilete.ro
URL:https://filarmonica-valcea.ro/eveniment/veste-de-poveste/
LOCATION:Sala Lahovari\, Calea lui Traian 138 B\, Râmnicu Vâlcea\, România
ATTACH;FMTTYPE=image/png:https://filarmonica-valcea.ro/wp-content/uploads/2025/02/15-martie-2025.png
END:VEVENT
END:VCALENDAR