BEGIN:VCALENDAR
VERSION:2.0
PRODID:-//Filarmonica Valcea - ECPv6.0.10//NONSGML v1.0//EN
CALSCALE:GREGORIAN
METHOD:PUBLISH
X-ORIGINAL-URL:https://filarmonica-valcea.ro
X-WR-CALDESC:Events for Filarmonica Valcea
REFRESH-INTERVAL;VALUE=DURATION:PT1H
X-Robots-Tag:noindex
X-PUBLISHED-TTL:PT1H
BEGIN:VTIMEZONE
TZID:UTC
BEGIN:STANDARD
TZOFFSETFROM:+0000
TZOFFSETTO:+0000
TZNAME:UTC
DTSTART:20250101T000000
END:STANDARD
END:VTIMEZONE
BEGIN:VEVENT
DTSTART;TZID=UTC:20250324T190000
DTEND;TZID=UTC:20250324T203000
DTSTAMP:20260423T113245
CREATED:20250218T100611Z
LAST-MODIFIED:20250219T064700Z
UID:4611-1742842800-1742848200@filarmonica-valcea.ro
SUMMARY:SYMPHONIC SPRING
DESCRIPTION:Dirijor: DANIEL MANASI  \nSolist: MATEI LĂBUNȚ – pian \nORCHESTRA SIMFONICĂ A FILARMONICII  \nFanny Hensel – Mendelssohn – Uvertura în do major ( primă audiție) \nWolfgang Amadeus Mozart – Concertul nr. 24 pentru pian și orchestră în do minor\, K. 491 \n*** \nFranz Schubert – Simfonia I \n  \nPreț bilet: 25 lei  / 15 lei (elevi\, studenți\, pensionari și șomeri) – Abonamentele sunt valabile \nBilete online: bilete.ro
URL:https://filarmonica-valcea.ro/eveniment/symphonic-spring/
LOCATION:Sala Lahovari\, Calea lui Traian 138 B\, Râmnicu Vâlcea\, România
ATTACH;FMTTYPE=image/png:https://filarmonica-valcea.ro/wp-content/uploads/2025/02/24-martie-2025.png
END:VEVENT
END:VCALENDAR