BEGIN:VCALENDAR
VERSION:2.0
PRODID:-//Filarmonica Valcea - ECPv6.0.10//NONSGML v1.0//EN
CALSCALE:GREGORIAN
METHOD:PUBLISH
X-ORIGINAL-URL:https://filarmonica-valcea.ro
X-WR-CALDESC:Events for Filarmonica Valcea
REFRESH-INTERVAL;VALUE=DURATION:PT1H
X-Robots-Tag:noindex
X-PUBLISHED-TTL:PT1H
BEGIN:VTIMEZONE
TZID:UTC
BEGIN:STANDARD
TZOFFSETFROM:+0000
TZOFFSETTO:+0000
TZNAME:UTC
DTSTART:20250101T000000
END:STANDARD
END:VTIMEZONE
BEGIN:VEVENT
DTSTART;TZID=UTC:20250412T100000
DTEND;TZID=UTC:20250412T110000
DTSTAMP:20260423T095917
CREATED:20250323T110338Z
LAST-MODIFIED:20250323T110338Z
UID:4640-1744452000-1744455600@filarmonica-valcea.ro
SUMMARY:BAROCUL PE ÎNȚELESUL COPIILOR - Concert pentru copii
DESCRIPTION:BAROCUL PE ÎNȚELESUL COPIILOR – Concert pentru copii  \nORCHESTRA SIMFONICĂ A FILARMONICII  \nDirijor: TIBERIU DRAGOȘ OPREA  \nPreț unic: 15 lei \nBilete online: bilete.ro
URL:https://filarmonica-valcea.ro/eveniment/barocul-pe-intelesul-copiilor-concert-pentru-copii/
LOCATION:Sala Lahovari\, Calea lui Traian 138 B\, Râmnicu Vâlcea\, România
ATTACH;FMTTYPE=image/jpeg:https://filarmonica-valcea.ro/wp-content/uploads/2025/03/12-aprilie-2025-.jpg
END:VEVENT
END:VCALENDAR