BEGIN:VCALENDAR
VERSION:2.0
PRODID:-//Filarmonica Valcea - ECPv6.0.10//NONSGML v1.0//EN
CALSCALE:GREGORIAN
METHOD:PUBLISH
X-ORIGINAL-URL:https://filarmonica-valcea.ro
X-WR-CALDESC:Events for Filarmonica Valcea
REFRESH-INTERVAL;VALUE=DURATION:PT1H
X-Robots-Tag:noindex
X-PUBLISHED-TTL:PT1H
BEGIN:VTIMEZONE
TZID:UTC
BEGIN:STANDARD
TZOFFSETFROM:+0000
TZOFFSETTO:+0000
TZNAME:UTC
DTSTART:20250101T000000
END:STANDARD
END:VTIMEZONE
BEGIN:VEVENT
DTSTART;TZID=UTC:20251013T190000
DTEND;TZID=UTC:20251013T203000
DTSTAMP:20260424T094715
CREATED:20250911T123816Z
LAST-MODIFIED:20250930T062349Z
UID:4964-1760382000-1760387400@filarmonica-valcea.ro
SUMMARY:MISSA ÎNCORONĂRII
DESCRIPTION:Dirijor: ANDREI STĂNCULESCU  \nSolist: ALEXANDRU STOIAN – pian \nSoliști: CRISTINA FIERARU – soprană\, ALEXANDRA HORPAS – mezzosoprană \nMARIUS NINE – tenor\, ALEXANDRU MATEI – bas \nORCHESTRA SIMFONICĂ A FILARMONICII  \nCORUL EUPHONIA  \nHugo Alfvén – Elegy (din Suita Gustav II Adolf) – primă audiție \nPiotr Ilici Ceaikovski – Concertul pentru pian și orchestră nr. 1 în si bemol minor\, op. 23 \nWolfgang Amadeus Mozart – Missa încoronării în Do major\, KV 317 \nPreț bilet: 25 lei  / 15 lei (elevi\, studenți\, pensionari și șomeri) – Abonamentele sunt valabile \nBilete online: bilete.ro
URL:https://filarmonica-valcea.ro/eveniment/missa-incoronarii/
LOCATION:Sala Lahovari\, Calea lui Traian 138 B\, Râmnicu Vâlcea\, România
ATTACH;FMTTYPE=image/jpeg:https://filarmonica-valcea.ro/wp-content/uploads/2025/09/13-octombrie-2025.jpg
END:VEVENT
END:VCALENDAR