BEGIN:VCALENDAR
VERSION:2.0
PRODID:-//Filarmonica Valcea - ECPv6.0.10//NONSGML v1.0//EN
CALSCALE:GREGORIAN
METHOD:PUBLISH
X-WR-CALNAME:Filarmonica Valcea
X-ORIGINAL-URL:https://filarmonica-valcea.ro
X-WR-CALDESC:Events for Filarmonica Valcea
REFRESH-INTERVAL;VALUE=DURATION:PT1H
X-Robots-Tag:noindex
X-PUBLISHED-TTL:PT1H
BEGIN:VTIMEZONE
TZID:UTC
BEGIN:STANDARD
TZOFFSETFROM:+0000
TZOFFSETTO:+0000
TZNAME:UTC
DTSTART:20260101T000000
END:STANDARD
END:VTIMEZONE
BEGIN:VEVENT
DTSTART;TZID=UTC:20260423T180000
DTEND;TZID=UTC:20260423T193000
DTSTAMP:20260423T101017
CREATED:20260313T140103Z
LAST-MODIFIED:20260313T154950Z
UID:5344-1776967200-1776972600@filarmonica-valcea.ro
SUMMARY:PROFESORII LICEULUI DE ARTE „VICTOR GIULEANU”  ÎN RECITAL
DESCRIPTION:Organizator: LICEUL DE ARTE „VICTOR GIULEANU” Râmnicu Vâlcea \nîn parteneriat cu: ASOCIAȚIA „JUVEN’S ALUTUS” și ASOCIAȚIA CULTURALĂ „IRINA ȘAȚCHI” \nParticipă profesorii: \nCamelia Clavac – soprană\, Monica Valentina Scurtu – soprană\, Nicoleta Vasîi – mezzosoprană\, Georgiana Păducel – vioară\, Flavia Nițu – violoncel\, Carina Aghenie – pian\, Anastasia Belinschi – pian\, Galina Nemțanu – pian\, Elena Teodora Pavelescu – flaut\, Dorin Fărcaș – oboi\, Cristian Modrescu – clarinet\, Eduard Chirea – clarinet\, Constantin Negură – fagot\, Dan Jacotă – corn\, Grigore Teacă – trompetă\, Patriciu Răstău – percuție. \n  \nIntrarea liberă
URL:https://filarmonica-valcea.ro/eveniment/profesorii-liceului-de-arte-victor-giuleanu-in-recital/
LOCATION:Sala Lahovari\, Calea lui Traian 138 B\, Râmnicu Vâlcea\, România
ATTACH;FMTTYPE=image/png:https://filarmonica-valcea.ro/wp-content/uploads/2026/03/23-aprilie-2026-recitalul-profesorilor-.png
END:VEVENT
BEGIN:VEVENT
DTSTART;TZID=UTC:20260424T190000
DTEND;TZID=UTC:20260424T200000
DTSTAMP:20260423T101017
CREATED:20260313T140356Z
LAST-MODIFIED:20260313T150703Z
UID:5347-1777057200-1777060800@filarmonica-valcea.ro
SUMMARY:GHID DE ÎNȚELES... FEMEIA
DESCRIPTION:Regia și scenariul: ANCA OLTEANU \nMĂDĂLINA FLOROAICA  \nOLIMPIA DEACONESCU \nBRIANA RĂDOANE \nGABRIEL POPESCU \nALIN PĂIUȘ  \nIONUȚ MOCANU  \nCu participarea CORULUI EUPHONIA – Dirijor: MARIAN STROE  \n  \nPreț unic: 25 lei  \nBilete online: bilete.ro
URL:https://filarmonica-valcea.ro/eveniment/ghid-de-inteles-femeia-2/
LOCATION:Cinema Geo Saizescu\, Romania
ATTACH;FMTTYPE=image/png:https://filarmonica-valcea.ro/wp-content/uploads/2026/03/24-aprilie-2026-ghid-la-Geo.png
END:VEVENT
BEGIN:VEVENT
DTSTART;TZID=UTC:20260427T190000
DTEND;TZID=UTC:20260427T203000
DTSTAMP:20260423T101017
CREATED:20260220T111908Z
LAST-MODIFIED:20260422T140244Z
UID:5299-1777316400-1777321800@filarmonica-valcea.ro
SUMMARY:THE MOTANS SIMFONIC - SOLD OUT!
DESCRIPTION:ORCHESTRA SIMFONICĂ A FILARMONICII  \nDirijor: ALEXANDRU ILIE  \n  \nSOLD OUT!
URL:https://filarmonica-valcea.ro/eveniment/the-motans-simfonic/
LOCATION:Sala Lahovari\, Calea lui Traian 138 B\, Râmnicu Vâlcea\, România
ATTACH;FMTTYPE=image/png:https://filarmonica-valcea.ro/wp-content/uploads/2026/02/27-sold-out.png
END:VEVENT
BEGIN:VEVENT
DTSTART;TZID=UTC:20260501T190000
DTEND;TZID=UTC:20260501T203000
DTSTAMP:20260423T101017
CREATED:20260420T104122Z
LAST-MODIFIED:20260420T104122Z
UID:5636-1777662000-1777667400@filarmonica-valcea.ro
SUMMARY:MARIA TĂNASE RELOADED - premieră
DESCRIPTION:Un spectacol de: VLAD POPESCU \nInterpretează: MAGDALENA CÂRSTEA \nPercuție și muzică originală: MIHAI ROTARIU \nPreț bilet: 40 /30 lei \nBilete online: bilete.ro
URL:https://filarmonica-valcea.ro/eveniment/maria-tanase-reloaded-premiera/
LOCATION:Cinema Geo Saizescu\, Romania
ATTACH;FMTTYPE=image/png:https://filarmonica-valcea.ro/wp-content/uploads/2026/04/Afis-Maria-Reloaded-1-mai-2026-ora-19.00.png
END:VEVENT
BEGIN:VEVENT
DTSTART;TZID=UTC:20260503T110000
DTEND;TZID=UTC:20260503T130000
DTSTAMP:20260423T101017
CREATED:20260420T104914Z
LAST-MODIFIED:20260420T104914Z
UID:5639-1777806000-1777813200@filarmonica-valcea.ro
SUMMARY:GALA LAUREAȚILOR - CONCURSUL DE PIAN „IRINA ȘAȚCHI”
DESCRIPTION:Concursul de Pian „Irina Șațchi” – Ediția a XVII-a \nOrganizatori: Asociația Culturală „Irina Șatchi\, Asociația Culturală „Pianoforte” \nIntrarea liberă
URL:https://filarmonica-valcea.ro/eveniment/gala-laureatilor-concursul-de-pian-irina-satchi/
LOCATION:Sala Lahovari\, Calea lui Traian 138 B\, Râmnicu Vâlcea\, România
ATTACH;FMTTYPE=image/jpeg:https://filarmonica-valcea.ro/wp-content/uploads/2026/04/Concurs-Irina-Satchi.jpg
ORGANIZER;CN="Asocia%C8%9Bia%20cultural%C4%83%20IRINA%20%C8%98A%C8%9ACHI":MAILTO:irinasatchi@yahoo.com
END:VEVENT
BEGIN:VEVENT
DTSTART;TZID=UTC:20260504T190000
DTEND;TZID=UTC:20260504T203000
DTSTAMP:20260423T101017
CREATED:20260420T105120Z
LAST-MODIFIED:20260422T140404Z
UID:5642-1777921200-1777926600@filarmonica-valcea.ro
SUMMARY:CONCORDIA
DESCRIPTION:Dirijor: ANDREI STĂNCULESCU  \nSoliști: CĂLIN NECHITA\, EDUARD MARCU \, BOGDAN NICOLAE\, AGATA MENGONI\, LIGIA ȘTEFANIA MIHAI\, ȘTEFAN RUJAN \nORCHESTRA SIMFONICĂ A FILARMONICII \nCORUL EUPHONIA – Dirijor: MARIAN STROE \n  \nTemistocle Popa – Suită din muzica filmului românesc Veronica – aranjament pentru orchestră și cor mixt realizat de I.Dobrinescu – primă audiție națională \nBogdan Georgescu – Concordia – concert pentru 6 pianiști soliști și orchestră – primă audiție \nMaurice Ravel – Suita „Ma mère l’Oye” – Cu participarea actorului GABRIEL POPESCU \n  \nPreț bilet: 35 lei  / 20 lei (elevi\, studenți\, pensionari și șomeri) – Abonamentele sunt valabile \nBilete online: bilete.ro
URL:https://filarmonica-valcea.ro/eveniment/concordia/
LOCATION:Sala Lahovari\, Calea lui Traian 138 B\, Râmnicu Vâlcea\, România
ATTACH;FMTTYPE=image/png:https://filarmonica-valcea.ro/wp-content/uploads/2026/04/4-mai-2026-.png
END:VEVENT
BEGIN:VEVENT
DTSTART;TZID=UTC:20260510T110000
DTEND;TZID=UTC:20260510T120000
DTSTAMP:20260423T101017
CREATED:20260420T105258Z
LAST-MODIFIED:20260422T140522Z
UID:5645-1778410800-1778414400@filarmonica-valcea.ro
SUMMARY:PETRICĂ ȘI LUPUL
DESCRIPTION:Poveste muzicală de Serghei Prokofiev  \nDirijor: TIBERIU DRAGOȘ OPREA      \nORCHESTRA SIMFONICĂ A FILARMONICII  \nInterpretează actorii:  \nJULLIET ATTOH – Povestitorul \nALIN PĂIUȘ – Petrică\, Pisica \nBRIANA RĂDOANE – Vrăbiuța  \nIONUȚ MOCANU – Rățoiul\, Bunicul\, Vânătorul \nOLIMPIA DEACONESCU – Al doilea Vânător  \nGABRIEL POPESCU – Lupul  \nRegia: MIHAELA MIHAI  \n  \nPreț unic: 15 lei \nBilete online: bilete.ro
URL:https://filarmonica-valcea.ro/eveniment/petrica-si-lupul/
LOCATION:Cinema Geo Saizescu\, Romania
ATTACH;FMTTYPE=image/png:https://filarmonica-valcea.ro/wp-content/uploads/2026/04/10-mai-2026-Petrica-si-lupul-GEo-Saizescu-.png
END:VEVENT
BEGIN:VEVENT
DTSTART;TZID=UTC:20260511T190000
DTEND;TZID=UTC:20260511T203000
DTSTAMP:20260423T101017
CREATED:20260420T105447Z
LAST-MODIFIED:20260422T140618Z
UID:5648-1778526000-1778531400@filarmonica-valcea.ro
SUMMARY:SCHUMANN\, WAGNER\, PROKOFIEV
DESCRIPTION:Dirijor: TIBERIU DRAGOȘ OPREA   \nSolist: ANDREI LICAREȚ – pian \nORCHESTRA SIMFONICĂ A FILARMONICII \nRobert Schumann – Concertul pentru pian și orchestră în la minor\, op. 54 \nRichard Wagner – Poemul simfonic „Idila lui Siegfried” \nSerghei Prokofiev – Simfonia clasică \n  \nPreț bilet: 35 lei  / 20 lei (elevi\, studenți\, pensionari și șomeri) – Abonamentele sunt valabile \nBilete online: bilete.ro
URL:https://filarmonica-valcea.ro/eveniment/schumann-wagner-prokofiev/
LOCATION:Sala Lahovari\, Calea lui Traian 138 B\, Râmnicu Vâlcea\, România
ATTACH;FMTTYPE=image/png:https://filarmonica-valcea.ro/wp-content/uploads/2026/04/11-mai-2026-.png
END:VEVENT
BEGIN:VEVENT
DTSTART;VALUE=DATE:20260517
DTEND;VALUE=DATE:20260518
DTSTAMP:20260423T101017
CREATED:20260420T110046Z
LAST-MODIFIED:20260420T110046Z
UID:5652-1778976000-1779062399@filarmonica-valcea.ro
SUMMARY:FESTIVALUL TINERE TALENTE® – EDIȚIA 46 – Deschiderea festivalului – Duminică 17 mai – orele 10.30 și 18.30
DESCRIPTION:DUMINICĂ\, 17 MAI 2026\, ORA 10.30\, SALA LAHOVARI\, RM. VÂLCEA \nDESCHIDEREA FESTIVALULUI  \n„TINERI MUZICIENI ÎN DEVENIRE”  \nPartea I  \n                LICEUL DE ARTE „VICTOR GIULEANU” – Râmnicu Vâlcea  \n                Prezintă:  prof. Irina Stratulat\, Director Liceul de Arte „Victor Giuleanu”\, Rm. Vâlcea   \n*** \nPartea a II-a  \nLAUREAȚI  CU PREMIUL I AI CONCURSULUI NAȚIONAL „ION DUMITRESCU”\, BUCUREȘTI – febr. 2026 (Inspectoratul Școlar al Municipiului București\, Școala Gimnazială de Arte nr. 4\, București) \nPrezintă: prof. ALEXANDRA NECHITA\, Director Șc. Gimnazială de Arte nr. 4\, București \n  \n  \nDUMINICĂ\, 17 MAI 2026\, ORA 18.30\, SALA LAHOVARI\, RÂMNICU VÂLCEA  \n„RECITALUL TINERELOR TALENTE” –  Fundația Culturală „Remember Enescu”  \nPrezintă: dr. VASILE MACOVEI și  prof. MIHAELA TOMESCU – Director Fundația Culturală „Remember Enescu”  \n  \nInvitați speciali: \nprof. AUGUSTINA SANDA CONSTANTINESCU – membru fondator al Festivalului \nprof. univ. dr. MIHAI COSMA – muzicolog\,  Universitatea Națională de Muzică București \ning. dr. CONSTANTIN SAVA  \nANA MARIA CÎRSTEA  – corespondent Radio România Actualități \nTEODORA CONSTANTINESCU – critic muzical   \n  \nPreședinte: Dr. ILINCA DUMITRESCU\, pianistă concertistă solistă\, muzicolog \nDirector artistic: prof. PETRUȚ CONSTANTINESCU – Manager Centrul Cultural Municipal – Filarmonica „Ion Dumitrescu”  \nINTRAREA LIBERĂ
URL:https://filarmonica-valcea.ro/eveniment/festivalul-tinere-talente-editia-46-deschiderea-festivalului-duminica-17-mai-orele-10-30-si-18-30/
LOCATION:Sala Lahovari\, Calea lui Traian 138 B\, Râmnicu Vâlcea\, România
ATTACH;FMTTYPE=image/png:https://filarmonica-valcea.ro/wp-content/uploads/2026/04/17-si-18-mai-2026-TT-aranjam-central.png
END:VEVENT
BEGIN:VEVENT
DTSTART;TZID=UTC:20260518T190000
DTEND;TZID=UTC:20260518T210000
DTSTAMP:20260423T101017
CREATED:20260420T110350Z
LAST-MODIFIED:20260420T110430Z
UID:5657-1779130800-1779138000@filarmonica-valcea.ro
SUMMARY:FESTIVALUL TINERE TALENTE® – EDIȚIA 46 – CONCERT DE GALĂ
DESCRIPTION:CONCERT DE GALĂ \nPrezintă: dr. ILINCA DUMITRESCU\, pianistă concertistă solistă\, muzicolog\, Președintele Festivalului  \nDirijor: MIRCEA HOLIARTOC  \n                ORCHESTRA SIMFONICĂ A FILARMONICII \n                IOAN CRISTIAN MODRESCU – clarinet \nSaverio Mercadante – Concertul în Sib Major pentru clarinet și orchestră\, op. 101              \n                VALERIA-DANIELA ROGACEV – soprană \nCiprian Porumbescu – Cântecul Dochiței „Te-ai dus iubite” din opereta „Crai Nou” \nEMILIA TUDORACHE – soprană \nFilaret Barbu – Ana Lugojana – Aria Anei „La răscrucea drumului” \nLuigi Denza – Funiculi\, funicula / Augustin Lara – Granada \n                ANA ANTONIA TUDOSE – pian  \nSerghei Rahmaninov – Concertul nr. 2 pentru pian și orchestră\, op. 18 \n                Decernarea distincțiilor: \nFILARMONICA „ION DUMITRESCU”\, ROTARY CLUB RÂMNICU VÂLCEA\, ASOCIAȚIA GENERAL MAGHERU 68\, MEDICALMA VISION\, NURVIL\,  DIANA\, IN MEMORIAM RODICA SAVA \nInvitați speciali: \nprof. AUGUSTINA SANDA CONSTANTINESCU – membru fondator al Festivalului \nprof. univ. dr. MIHAI COSMA – muzicolog\,  Universitatea Națională de Muzică București \ning. dr. CONSTANTIN SAVA  \nANA MARIA CÎRSTEA  – corespondent Radio România Actualități \nTEODORA CONSTANTINESCU – critic muzical   \n  \nPreședinte: Dr. ILINCA DUMITRESCU\, pianistă concertistă solistă\, muzicolog \nDirector artistic: prof. PETRUȚ CONSTANTINESCU – Manager Centrul Cultural Municipal – Filarmonica „Ion Dumitrescu” \nINTRAREA LIBERĂ
URL:https://filarmonica-valcea.ro/eveniment/festivalul-tinere-talente-editia-46-concert-de-gala/
LOCATION:Sala Lahovari\, Calea lui Traian 138 B\, Râmnicu Vâlcea\, România
ATTACH;FMTTYPE=image/png:https://filarmonica-valcea.ro/wp-content/uploads/2026/04/17-si-18-mai-2026-TT-aranjam-central.png
END:VEVENT
BEGIN:VEVENT
DTSTART;TZID=UTC:20260525T190000
DTEND;TZID=UTC:20260525T203000
DTSTAMP:20260423T101017
CREATED:20260420T110735Z
LAST-MODIFIED:20260422T140701Z
UID:5660-1779735600-1779741000@filarmonica-valcea.ro
SUMMARY:SEMPER GLORIA
DESCRIPTION:Concert aniversar extraordinar dedicat Maestrului TUDOR GHEORGHE  \nDirijor: MARIUS HRISTESCU    \nSoliști: ȘTEFAN IGNAT – bariton\, IOAN CHERATA – bariton\, VITALIE NEGRUȚĂ – voce și percuție \nORCHESTRA SIMFONICĂ A FILARMONICII \nCORUL EUPHONIA – Dirijor: MARIAN STROE \nÎn program – lucrări originale de Tudor Gheorghe și Marius Hristescu  \n  \nPreț unic: 75 lei – Abonamentele NU sunt valabile \nBilete online: bilete.ro
URL:https://filarmonica-valcea.ro/eveniment/semper-gloria/
LOCATION:Sala Lahovari\, Calea lui Traian 138 B\, Râmnicu Vâlcea\, România
ATTACH;FMTTYPE=image/png:https://filarmonica-valcea.ro/wp-content/uploads/2026/04/25-mai-2026-.png
END:VEVENT
END:VCALENDAR