BEGIN:VCALENDAR
VERSION:2.0
PRODID:-//Filarmonica Valcea - ECPv6.0.10//NONSGML v1.0//EN
CALSCALE:GREGORIAN
METHOD:PUBLISH
X-WR-CALNAME:Filarmonica Valcea
X-ORIGINAL-URL:https://filarmonica-valcea.ro
X-WR-CALDESC:Events for Filarmonica Valcea
REFRESH-INTERVAL;VALUE=DURATION:PT1H
X-Robots-Tag:noindex
X-PUBLISHED-TTL:PT1H
BEGIN:VTIMEZONE
TZID:UTC
BEGIN:STANDARD
TZOFFSETFROM:+0000
TZOFFSETTO:+0000
TZNAME:UTC
DTSTART:20260101T000000
END:STANDARD
END:VTIMEZONE
BEGIN:VEVENT
DTSTART;VALUE=DATE:20260517
DTEND;VALUE=DATE:20260518
DTSTAMP:20260422T215345
CREATED:20260420T110046Z
LAST-MODIFIED:20260420T110046Z
UID:5652-1778976000-1779062399@filarmonica-valcea.ro
SUMMARY:FESTIVALUL TINERE TALENTE® – EDIȚIA 46 – Deschiderea festivalului – Duminică 17 mai – orele 10.30 și 18.30
DESCRIPTION:DUMINICĂ\, 17 MAI 2026\, ORA 10.30\, SALA LAHOVARI\, RM. VÂLCEA \nDESCHIDEREA FESTIVALULUI  \n„TINERI MUZICIENI ÎN DEVENIRE”  \nPartea I  \n                LICEUL DE ARTE „VICTOR GIULEANU” – Râmnicu Vâlcea  \n                Prezintă:  prof. Irina Stratulat\, Director Liceul de Arte „Victor Giuleanu”\, Rm. Vâlcea   \n*** \nPartea a II-a  \nLAUREAȚI  CU PREMIUL I AI CONCURSULUI NAȚIONAL „ION DUMITRESCU”\, BUCUREȘTI – febr. 2026 (Inspectoratul Școlar al Municipiului București\, Școala Gimnazială de Arte nr. 4\, București) \nPrezintă: prof. ALEXANDRA NECHITA\, Director Șc. Gimnazială de Arte nr. 4\, București \n  \n  \nDUMINICĂ\, 17 MAI 2026\, ORA 18.30\, SALA LAHOVARI\, RÂMNICU VÂLCEA  \n„RECITALUL TINERELOR TALENTE” –  Fundația Culturală „Remember Enescu”  \nPrezintă: dr. VASILE MACOVEI și  prof. MIHAELA TOMESCU – Director Fundația Culturală „Remember Enescu”  \n  \nInvitați speciali: \nprof. AUGUSTINA SANDA CONSTANTINESCU – membru fondator al Festivalului \nprof. univ. dr. MIHAI COSMA – muzicolog\,  Universitatea Națională de Muzică București \ning. dr. CONSTANTIN SAVA  \nANA MARIA CÎRSTEA  – corespondent Radio România Actualități \nTEODORA CONSTANTINESCU – critic muzical   \n  \nPreședinte: Dr. ILINCA DUMITRESCU\, pianistă concertistă solistă\, muzicolog \nDirector artistic: prof. PETRUȚ CONSTANTINESCU – Manager Centrul Cultural Municipal – Filarmonica „Ion Dumitrescu”  \nINTRAREA LIBERĂ
URL:https://filarmonica-valcea.ro/eveniment/festivalul-tinere-talente-editia-46-deschiderea-festivalului-duminica-17-mai-orele-10-30-si-18-30/
LOCATION:Sala Lahovari\, Calea lui Traian 138 B\, Râmnicu Vâlcea\, România
ATTACH;FMTTYPE=image/png:https://filarmonica-valcea.ro/wp-content/uploads/2026/04/17-si-18-mai-2026-TT-aranjam-central.png
END:VEVENT
BEGIN:VEVENT
DTSTART;TZID=UTC:20260518T190000
DTEND;TZID=UTC:20260518T210000
DTSTAMP:20260422T215345
CREATED:20260420T110350Z
LAST-MODIFIED:20260420T110430Z
UID:5657-1779130800-1779138000@filarmonica-valcea.ro
SUMMARY:FESTIVALUL TINERE TALENTE® – EDIȚIA 46 – CONCERT DE GALĂ
DESCRIPTION:CONCERT DE GALĂ \nPrezintă: dr. ILINCA DUMITRESCU\, pianistă concertistă solistă\, muzicolog\, Președintele Festivalului  \nDirijor: MIRCEA HOLIARTOC  \n                ORCHESTRA SIMFONICĂ A FILARMONICII \n                IOAN CRISTIAN MODRESCU – clarinet \nSaverio Mercadante – Concertul în Sib Major pentru clarinet și orchestră\, op. 101              \n                VALERIA-DANIELA ROGACEV – soprană \nCiprian Porumbescu – Cântecul Dochiței „Te-ai dus iubite” din opereta „Crai Nou” \nEMILIA TUDORACHE – soprană \nFilaret Barbu – Ana Lugojana – Aria Anei „La răscrucea drumului” \nLuigi Denza – Funiculi\, funicula / Augustin Lara – Granada \n                ANA ANTONIA TUDOSE – pian  \nSerghei Rahmaninov – Concertul nr. 2 pentru pian și orchestră\, op. 18 \n                Decernarea distincțiilor: \nFILARMONICA „ION DUMITRESCU”\, ROTARY CLUB RÂMNICU VÂLCEA\, ASOCIAȚIA GENERAL MAGHERU 68\, MEDICALMA VISION\, NURVIL\,  DIANA\, IN MEMORIAM RODICA SAVA \nInvitați speciali: \nprof. AUGUSTINA SANDA CONSTANTINESCU – membru fondator al Festivalului \nprof. univ. dr. MIHAI COSMA – muzicolog\,  Universitatea Națională de Muzică București \ning. dr. CONSTANTIN SAVA  \nANA MARIA CÎRSTEA  – corespondent Radio România Actualități \nTEODORA CONSTANTINESCU – critic muzical   \n  \nPreședinte: Dr. ILINCA DUMITRESCU\, pianistă concertistă solistă\, muzicolog \nDirector artistic: prof. PETRUȚ CONSTANTINESCU – Manager Centrul Cultural Municipal – Filarmonica „Ion Dumitrescu” \nINTRAREA LIBERĂ
URL:https://filarmonica-valcea.ro/eveniment/festivalul-tinere-talente-editia-46-concert-de-gala/
LOCATION:Sala Lahovari\, Calea lui Traian 138 B\, Râmnicu Vâlcea\, România
ATTACH;FMTTYPE=image/png:https://filarmonica-valcea.ro/wp-content/uploads/2026/04/17-si-18-mai-2026-TT-aranjam-central.png
END:VEVENT
BEGIN:VEVENT
DTSTART;TZID=UTC:20260525T190000
DTEND;TZID=UTC:20260525T203000
DTSTAMP:20260422T215345
CREATED:20260420T110735Z
LAST-MODIFIED:20260422T140701Z
UID:5660-1779735600-1779741000@filarmonica-valcea.ro
SUMMARY:SEMPER GLORIA
DESCRIPTION:Concert aniversar extraordinar dedicat Maestrului TUDOR GHEORGHE  \nDirijor: MARIUS HRISTESCU    \nSoliști: ȘTEFAN IGNAT – bariton\, IOAN CHERATA – bariton\, VITALIE NEGRUȚĂ – voce și percuție \nORCHESTRA SIMFONICĂ A FILARMONICII \nCORUL EUPHONIA – Dirijor: MARIAN STROE \nÎn program – lucrări originale de Tudor Gheorghe și Marius Hristescu  \n  \nPreț unic: 75 lei – Abonamentele NU sunt valabile \nBilete online: bilete.ro
URL:https://filarmonica-valcea.ro/eveniment/semper-gloria/
LOCATION:Sala Lahovari\, Calea lui Traian 138 B\, Râmnicu Vâlcea\, România
ATTACH;FMTTYPE=image/png:https://filarmonica-valcea.ro/wp-content/uploads/2026/04/25-mai-2026-.png
END:VEVENT
END:VCALENDAR