BEGIN:VCALENDAR
VERSION:2.0
PRODID:-//Filarmonica Valcea - ECPv6.0.10//NONSGML v1.0//EN
CALSCALE:GREGORIAN
METHOD:PUBLISH
X-WR-CALNAME:Filarmonica Valcea
X-ORIGINAL-URL:https://filarmonica-valcea.ro
X-WR-CALDESC:Events for Filarmonica Valcea
REFRESH-INTERVAL;VALUE=DURATION:PT1H
X-Robots-Tag:noindex
X-PUBLISHED-TTL:PT1H
BEGIN:VTIMEZONE
TZID:UTC
BEGIN:STANDARD
TZOFFSETFROM:+0000
TZOFFSETTO:+0000
TZNAME:UTC
DTSTART:20250101T000000
END:STANDARD
END:VTIMEZONE
BEGIN:VEVENT
DTSTART;TZID=UTC:20250201T100000
DTEND;TZID=UTC:20250201T110000
DTSTAMP:20260423T113145
CREATED:20241219T143215Z
LAST-MODIFIED:20241219T151949Z
UID:4484-1738404000-1738407600@filarmonica-valcea.ro
SUMMARY:IARNA PE ULIȚĂ – Concert pentru copii
DESCRIPTION:CORUL EUPHONIA  \nDirijor: MARIAN STROE \nPreț unic: 15 lei \nBilete online: bilete.ro
URL:https://filarmonica-valcea.ro/eveniment/iarna-pe-ulita-concert-pentru-copii/
LOCATION:Sala Lahovari\, Calea lui Traian 138 B\, Râmnicu Vâlcea\, România
ATTACH;FMTTYPE=image/png:https://filarmonica-valcea.ro/wp-content/uploads/2024/12/1-februarie-2025.png
END:VEVENT
BEGIN:VEVENT
DTSTART;TZID=UTC:20250203T190000
DTEND;TZID=UTC:20250203T203000
DTSTAMP:20260423T113145
CREATED:20250115T131030Z
LAST-MODIFIED:20250116T123653Z
UID:4515-1738609200-1738614600@filarmonica-valcea.ro
SUMMARY:DIALOGUL MAEȘTRILOR
DESCRIPTION:Dirijor: GIANLUIGI ZAMPIERI  (Italia) \nSolist: FLORIN CROITORU vioară \nORCHESTRA SIMFONICĂ A FILARMONICII \nLudwig van Beethoven – Concertul pentru vioară și orchestră \nFranz Schubert – Simfonia a III-a \n  \nPreț bilet: 25 lei  / 15 lei (elevi\, studenți\, pensionari și șomeri) – Abonamentele sunt valabile \nBilete online: bilete.ro
URL:https://filarmonica-valcea.ro/eveniment/dialogul-maestrilor-2/
LOCATION:Sala Lahovari\, Calea lui Traian 138 B\, Râmnicu Vâlcea\, România
ATTACH;FMTTYPE=image/png:https://filarmonica-valcea.ro/wp-content/uploads/2025/01/3-februarie-2025-modif.png
END:VEVENT
BEGIN:VEVENT
DTSTART;TZID=UTC:20250210T190000
DTEND;TZID=UTC:20250210T203000
DTSTAMP:20260423T113145
CREATED:20250115T133711Z
LAST-MODIFIED:20250116T123607Z
UID:4520-1739214000-1739219400@filarmonica-valcea.ro
SUMMARY:SIMFONIC DE FEBRUARIE
DESCRIPTION:Dirijor: ALEXANDRU ILIE  \nSolist: PAUL FLORESCU – pian \nORCHESTRA SIMFONICĂ A FILARMONICII \nWolfgang Amadeus Mozart – Uvertura operei „Directorul de teatru” \nWolfgang Amadeus Mozart – Concertul nr. 20 pentru pian și orchestră\, re minor\, K. 466 \n* * * \nJoseph Haydn – Simfonia nr. 101 \nPreț bilet: 25 lei  / 15 lei (elevi\, studenți\, pensionari și șomeri) – Abonamentele sunt valabile \nBilete online: bilete.ro
URL:https://filarmonica-valcea.ro/eveniment/simfonic-de-februarie-2/
LOCATION:Sala Lahovari\, Calea lui Traian 138 B\, Râmnicu Vâlcea\, România
ATTACH;FMTTYPE=image/png:https://filarmonica-valcea.ro/wp-content/uploads/2025/01/10-februarie-2025-.png
END:VEVENT
BEGIN:VEVENT
DTSTART;TZID=UTC:20250217T190000
DTEND;TZID=UTC:20250217T203000
DTSTAMP:20260423T113145
CREATED:20250115T133835Z
LAST-MODIFIED:20250116T123526Z
UID:4523-1739818800-1739824200@filarmonica-valcea.ro
SUMMARY:ARMONII ÎN FĂURAR
DESCRIPTION:Dirijor: ANDREI ILIESCU   \nSolist: VINICIU MOROIANU – pian \nORCHESTRA SIMFONICĂ A FILARMONICII  \nGioachino Rossini – Uvertura operei „Cenușăreasa” \nWolfgang Amadeus Mozart – Concertul nr. 25 pentru pian și orchestră \n* * * \nFelix Mendelssohn – Bartholdy – Simfonia I \nPreț bilet: 25 lei  / 15 lei (elevi\, studenți\, pensionari și șomeri) – Abonamentele sunt valabile \nBilete online: bilete.ro
URL:https://filarmonica-valcea.ro/eveniment/armonii-in-faurar-2/
LOCATION:Sala Lahovari\, Calea lui Traian 138 B\, Râmnicu Vâlcea\, România
ATTACH;FMTTYPE=image/png:https://filarmonica-valcea.ro/wp-content/uploads/2025/01/17-februarie-2025.png
END:VEVENT
BEGIN:VEVENT
DTSTART;TZID=UTC:20250222T100000
DTEND;TZID=UTC:20250222T110000
DTSTAMP:20260423T113145
CREATED:20250116T125753Z
LAST-MODIFIED:20250116T125758Z
UID:4534-1740218400-1740222000@filarmonica-valcea.ro
SUMMARY:JOACA DE-A MUZICA - Concert pentru copii
DESCRIPTION:ORCHESTRA SIMFONICĂ A FILARMONICII \nDirijor: SILVIU DEACONESCU  \n Preț unic: 15 lei \nBilete online: bilete.ro
URL:https://filarmonica-valcea.ro/eveniment/joaca-de-a-muzica-concert-pentru-copii/
LOCATION:Sala Lahovari\, Calea lui Traian 138 B\, Râmnicu Vâlcea\, România
ATTACH;FMTTYPE=image/jpeg:https://filarmonica-valcea.ro/wp-content/uploads/2025/01/22-febr-2025-.jpg
END:VEVENT
BEGIN:VEVENT
DTSTART;TZID=UTC:20250224T190000
DTEND;TZID=UTC:20250224T203000
DTSTAMP:20260423T113145
CREATED:20250115T134023Z
LAST-MODIFIED:20250116T123443Z
UID:4526-1740423600-1740429000@filarmonica-valcea.ro
SUMMARY:ARGENTINISSIMO\, RĂDĂCINI - TURNEU NAȚIONAL ANALIA SELIS
DESCRIPTION:ANALIA SELIS \nMARIANO CASTRO – pian\, JULIO SANTILLAN – chitară \nDirijor: DANIEL MANASI     \nORCHESTRA SIMFONICĂ A FILARMONICII  \n  \nPreț bilet: 35 lei – Valabile doar abonamentele care includ Concerte Extraordinare \nBilete online: bilete.ro
URL:https://filarmonica-valcea.ro/eveniment/argentinissimo-radacini-turneu-national-analia-selis/
LOCATION:Sala Lahovari\, Calea lui Traian 138 B\, Râmnicu Vâlcea\, România
ATTACH;FMTTYPE=image/png:https://filarmonica-valcea.ro/wp-content/uploads/2025/01/24-februarie-2025-.png
END:VEVENT
END:VCALENDAR